BEGIN:VCALENDAR
VERSION:2.0
PRODID:-//Paul Bloomfield - ECPv4.4.4//NONSGML v1.0//EN
CALSCALE:GREGORIAN
METHOD:PUBLISH
X-WR-CALNAME:Paul Bloomfield
X-ORIGINAL-URL:https://paulbmundo.com
X-WR-CALDESC:Events for Paul Bloomfield
BEGIN:VEVENT
DTSTART;VALUE=DATE:20180208
DTEND;VALUE=DATE:20180208
DTSTAMP:20260424T161005
CREATED:20180118T173202Z
LAST-MODIFIED:20180628T154106Z
UID:1780-1518048000-1518134399@paulbmundo.com
SUMMARY:A Celebration of Chinese New Year 2018
DESCRIPTION:Join us on 8th of February at Asia house to celebrate Chinese New Year 2018: Dinner and conservation with Ching-He Huang as a part of series on Asian food and culture from The Oxford Cultural Collective in partnership with Asia House. \n\n\nThe Lunar new year is an important and widely celebrated feature of Chinese culture. Asia house has arranged a celebratory dinner with International Emmy-nominated Celebrity Chef and cookery writer\, Ching-He Huang to welcome the beginning of Chinese New Year 2018 \n\n\n\nThis special evening will include a drinks reception\, Ching 'in conversation' with Don Sloan of Oxford Cultural Collective and dinner designed by Ching\, with wine. \n\nChing's approach to cookery reflects her family's origins in a farming community in Southern Taiwan. Fusing heritage with innovation\, she uses fresh\, organic and ethically sourced ingredients to create modern Chinese dishes. She is renowned for making Chinese food accessible\, healthy and nutritious.\n\nChing is now firmly established as the 'go to' expert on Chinese cuisine. Her media career\, which spans over a decade\, has introduced a new generation to the delights of Chinese cooking. The immense popularity of her television work is testament to her engaging style and natural skill as a teacher. Her success is truly international\, with many of her television shows having been sold\, distributed and broadcast around the world.\n\nChing has published eight best-selling cookbooks including Exploring China\, with Ken Hom\, and Chinese Food Made Easy. Her latest book\, Stir Crazy\, was published in September 2017. \n\n The event is supported by Paul  \n\nAddress: Asia House\, 63 New Cavendish Street\,London\, W1G 7LP.\nEvent starts at 7PM\n
URL:https://paulbmundo.com/event/a-celebration-of-chinese-new-year-2018/
LOCATION:63 New Cavendish Street\, London\, W1G 7LP\, United Kingdom
CATEGORIES:Asia House event
ATTACH;FMTTYPE=image/jpeg:https://paulbmundo.com/wp-content/uploads/2018/01/asiahouseevent-1.jpg
END:VEVENT
END:VCALENDAR