BEGIN:VCALENDAR
VERSION:2.0
PRODID:-//Paul Bloomfield - ECPv4.4.4//NONSGML v1.0//EN
CALSCALE:GREGORIAN
METHOD:PUBLISH
X-WR-CALNAME:Paul Bloomfield
X-ORIGINAL-URL:https://paulbmundo.com
X-WR-CALDESC:Events for Paul Bloomfield
BEGIN:VEVENT
DTSTART;TZID=UTC+0:20190215T180000
DTEND;TZID=UTC+0:20190215T210000
DTSTAMP:20260424T160727
CREATED:20190211T112159Z
LAST-MODIFIED:20190211T155921Z
UID:2139-1550253600-1550264400@paulbmundo.com
SUMMARY:Indonesian Cultural Showcase
DESCRIPTION:Join us on a journey of Indonesian culture; an evening of fashion\, music\, art\, food and performance from 17\,000 islands of imagination. Paul and the team will be there to prepare food which will showcase Indonesian culinary culture. Paul will be working alongside brilliant Indonesian chef and author Petty Elliott.\n\nThe evening will feature installations and performances from a range of writer\, artists\, performers and artisans. Visitors will discover unique music\, film and craftsmanship and sample delicious cuisine of Indonesia’s 17\,000 islands.\n\nFood and drinks complimentary.\n\nThe event is free. Registration is essential.
URL:https://paulbmundo.com/event/indonesian-cultural-showcase/
LOCATION:63 New Cavendish Street\, London\, W1G 7LP\, United Kingdom
CATEGORIES:Asia House event
ATTACH;FMTTYPE=image/png:https://paulbmundo.com/wp-content/uploads/2019/02/indonesian-cultural-showcase.png
END:VEVENT
END:VCALENDAR