BEGIN:VCALENDAR
VERSION:2.0
PRODID:-//Paul Bloomfield - ECPv4.4.4//NONSGML v1.0//EN
CALSCALE:GREGORIAN
METHOD:PUBLISH
X-WR-CALNAME:Paul Bloomfield
X-ORIGINAL-URL:https://paulbmundo.com
X-WR-CALDESC:Events for Paul Bloomfield
BEGIN:VEVENT
DTSTART;VALUE=DATE:20180317
DTEND;VALUE=DATE:20180325
DTSTAMP:20260424T161211
CREATED:20180316T101808Z
LAST-MODIFIED:20180628T154857Z
UID:2064-1521244800-1522022399@paulbmundo.com
SUMMARY:The FT Weekend Oxford Literary Festival takes place between March 17 and March 25 2018
DESCRIPTION:Director’s welcome\n\nWelcome to the 22nd Oxford Literary Festival\, which this year promises to be one of our best. \n\nWe have a treat for fiction-lovers with no fewer than four Booker Prize-winning authors on the Friday – Ben Okri\, Ian McEwan\, Anne Enright and Penelope Lively. \n\nWe are grateful for the wonderful support of the University of Oxford\, in particular from the Chancellor Lord Patten and the Vice Chancellor Professor Louise Richardson\, as well as from so many heads of colleges\, and university departments. \n\nThe Chancellor’s Lecture sees the novelist Sebastian Barry in conversation with Lord Patten\, while Anne Enright gives the Vice Chancellor’s Lecture.\n\nThe Festival Fellowship goes this year to the writer Anthony Horowitz who appears on both the young people and adult programmes to talk about his writing and his life. \n\nWe continue with our themed days and events. Italian Day includes talks on living and eating the Italian way\, the Medici and even the rare Marsican\nbrown bear.\n\nOur American weekend has talks by graphic novelist Nadja Spiegelman and by astrophysicist Dr Jillian Scudder\, and a dinner to welcome our friends from the States. We are very grateful to Emily Rose and Jim Marrow for their support for the American programme. \n\nThe Irish literature and culture theme includes leading Irish novelists\, the Irish critic Declan Kiberd and the well known poet Michael Longley. \n\nNew this year are the Oxford Debates\, sponsored by  lawyers Royd Withy King – our response to a fastchanging and often confusing world. Subjects covered in this series include Brexit\, the nature of evil\, the post-truth era\, immigration and good citizenship. \n\nBBC Four returns to the festival with preview screenings\, including a new documentary on TS Elliott and films on the cult of Bacchus and on American art. Their colleagues from BBC World Service will again stage a live outside broadcast from the festival featuring many of our speakers. \n\nThe festival would not take place without the support of our many long-standing sponsors and new partners. And we would like to thank them all. \n\nOur headline sponsor FT Weekend have once more organised a day of events at the Bodleian on the second Saturday headlined by the former governor of the Bank of England\, Lord King. \n\nWe are particularly grateful for the continued support of HSBC our foundation sponsor and for\nthe generosity of individual benefactors including Ian and Carol Sellars\, Jane and Roderick Gibbs\, Lady Hatch and George Warren. \n\nMany thanks to our festival team for their marvellous work and to our volunteer stewards who make everything go smoothly on the day. And finally\, a big thank you to our speakers and interviewers who bring their ideas\, scholarship and creativity to the festival and enrich all our lives in the great tradition of Oxford.\n\n\nSally Dunsmore\nFestival Director\n\n\n is the Chelf / Consultant at the event.  \n\nDownload the 2018 festival brochure
URL:https://paulbmundo.com/event/the-ft-weekend-oxford-literary-festival-takes-place-between-march-17-and-march-25-2018/
CATEGORIES:Oxford Literary Festival
ATTACH;FMTTYPE=image/jpeg:https://paulbmundo.com/wp-content/uploads/2018/03/oxford-literary-fest.jpg
END:VEVENT
END:VCALENDAR